BEGIN:VCALENDAR
VERSION:2.0
PRODID:-//The Joshua Project Ireland - ECPv4.6.1//NONSGML v1.0//EN
CALSCALE:GREGORIAN
METHOD:PUBLISH
X-WR-CALNAME:The Joshua Project Ireland
X-ORIGINAL-URL:http://www.joshuaproject.ie
X-WR-CALDESC:Events for The Joshua Project Ireland
BEGIN:VEVENT
DTSTART;TZID=Europe/London:20170811T003000
DTEND;TZID=Europe/London:20170811T150000
DTSTAMP:20171106T150908
CREATED:20170908T145127Z
LAST-MODIFIED:20170908T145127Z
UID:668-1502411400-1502463600@www.joshuaproject.ie
SUMMARY:First Graduation of Joshua Students
DESCRIPTION:We are delighted to announce the First Graduation of Joshua Students who are due to complete their 16 week New Beginnings Program on 31st July. We are holding a Graduation lunch and ceremony to honour these students. We would like to invite you to join us in this celebration. The details of the event are as follows. \nDate.                   Friday 11th August\nTime                    12.30 pm to 3 pm.\nVenue                 Bailie Hotel. \nWe would appreciate if you could let us know if you are attending by Friday 4th August. \n
URL:http://www.joshuaproject.ie/event/first-graduation-of-joshua-students/
END:VEVENT
END:VCALENDAR