BEGIN:VCALENDAR
VERSION:2.0
PRODID:-//The Joshua Project Ireland - ECPv4.6.1//NONSGML v1.0//EN
CALSCALE:GREGORIAN
METHOD:PUBLISH
X-WR-CALNAME:The Joshua Project Ireland
X-ORIGINAL-URL:http://www.joshuaproject.ie
X-WR-CALDESC:Events for The Joshua Project Ireland
BEGIN:VEVENT
DTSTART;TZID=Europe/London:20170630T103000
DTEND;TZID=Europe/London:20170630T153000
DTSTAMP:20171106T151755
CREATED:20170316T163846Z
LAST-MODIFIED:20170316T163846Z
UID:641-1498818600-1498836600@www.joshuaproject.ie
SUMMARY:Work experience day
DESCRIPTION:
URL:http://www.joshuaproject.ie/event/work-experience-day/2017-06-30/
END:VEVENT
END:VCALENDAR