BEGIN:VCALENDAR
VERSION:2.0
PRODID:-//The Joshua Project Ireland - ECPv4.6.1//NONSGML v1.0//EN
CALSCALE:GREGORIAN
METHOD:PUBLISH
X-WR-CALNAME:The Joshua Project Ireland
X-ORIGINAL-URL:http://www.joshuaproject.ie
X-WR-CALDESC:Events for The Joshua Project Ireland
BEGIN:VEVENT
DTSTART;TZID=Europe/London:20170210T103000
DTEND;TZID=Europe/London:20170210T130000
DTSTAMP:20171106T153412
CREATED:20150515T170207Z
LAST-MODIFIED:20170206T163301Z
UID:34-1486722600-1486731600@www.joshuaproject.ie
SUMMARY:Joshua Coffee Morning
DESCRIPTION:The first step in the program is to attend 4 coffee mornings over a 4 week period. This is set up in this manner to create an informal environment where we can get to know each other\, learn the detail of the program vision and next steps. You will also hear encouraging messages through video\, testimonies and talks. The objective of these mornings is to help you to decide whether you wish to put yourself forward for the next part of the program and that you fully understand the commitment required should you decide to go forward. \n  \n
URL:http://www.joshuaproject.ie/event/joshua-coffee-morning/
ATTACH;FMTTYPE=image/jpeg:http://www.joshuaproject.ie/wp-content/uploads/2015/05/coffee.jpg
END:VEVENT
END:VCALENDAR