BEGIN:VCALENDAR
VERSION:2.0
PRODID:-//The Joshua Project Ireland - ECPv4.6.1//NONSGML v1.0//EN
CALSCALE:GREGORIAN
METHOD:PUBLISH
X-WR-CALNAME:The Joshua Project Ireland
X-ORIGINAL-URL:http://www.joshuaproject.ie
X-WR-CALDESC:Events for The Joshua Project Ireland
BEGIN:VEVENT
DTSTART;TZID=Europe/London:20170320T193000
DTEND;TZID=Europe/London:20170320T210000
DTSTAMP:20171106T151131
CREATED:20170316T164303Z
LAST-MODIFIED:20170316T164303Z
UID:645-1490038200-1490043600@www.joshuaproject.ie
SUMMARY:1st recruits final prelaunch meeting
DESCRIPTION:with John Edwards \n
URL:http://www.joshuaproject.ie/event/1st-recruits-final-prelaunch-meeting/
LOCATION:Beckscourt Center\, Bailieborough\, Cavan
GEO:53.9205194;-6.9734009
X-APPLE-STRUCTURED-LOCATION;VALUE=URI;X-ADDRESS=Beckscourt Center Bailieborough Cavan;X-APPLE-RADIUS=500;X-TITLE=Beckscourt Center:geo:-6.9734009,53.9205194
END:VEVENT
END:VCALENDAR